BEGIN:VCALENDAR
VERSION:2.0
PRODID:-//Library Market//iCal Export//EN
BEGIN:VEVENT
SUMMARY:Saturday Jazz: Paradox Organ Alliance
UID:53283
DTSTAMP:20260424T134300Z
DTSTART:20260627T200000Z
DTEND:20260627T210000Z
LOCATION:Henry on Main, 10 W Main St, Clinton, CT 06413, United States
ROOM: Saturday Jazz: Paradox Organ Alliance
DESCRIPTION:Join for for Saturday Jazz.This week the Paradox Organ Allianc
 e will be performing.Tickets are $10 at the door.No registration required.
URL:https://events.hchlibrary.org/event/saturday-jazz-paradox-organ-allian
 ce-53283
END:VEVENT
END:VCALENDAR
