BEGIN:VCALENDAR
VERSION:2.0
PRODID:-//Library Market//iCal Export//EN
BEGIN:VEVENT
SUMMARY:Ranger Russ&#039;s Animal Friends
UID:53269
DTSTAMP:20260425T014100Z
DTSTART:20260728T190000Z
DTEND:20260728T200000Z
LOCATION:The Henry Carter Hull Library, 10 Killingworth Turnpike, Clinton,
  CT 06413, United States
ROOM: Community Room
DESCRIPTION:Meig&#039;s Point Nature Center will return to our library wit
 h a variety of snakes and turtles to educate us and help children to under
 stand and not fear these unique animals.For rising Kindergarteners-6th gra
 ders. Registration required. Sponsored by Clinton Land Conservation Trus
 t. 
URL:https://events.hchlibrary.org/event/ranger-russs-animal-friends-53269
END:VEVENT
END:VCALENDAR
