BEGIN:VCALENDAR
VERSION:2.0
PRODID:-//Library Market//iCal Export//EN
BEGIN:VEVENT
SUMMARY:Storytime w/ CT DEEP
UID:52297
DTSTAMP:20260424T155300Z
DTSTART:20260804T200000Z
DTEND:20260804T210000Z
LOCATION:The Henry Carter Hull Library, 10 Killingworth Turnpike, Clinton,
  CT 06413, United States
ROOM: Community Room
DESCRIPTION:Storytime and Seed Activity w/ the CT Department of Environmen
 tal Protection! Explore the world with Acorn and his wild outlook, until 
 he hits a hard place and has to adjust his speed. Through thisbook we will
  introduce the diversity of seeds and how they get a round and into the gr
 ound. Program includes a collection of seeds to explore. Compare them and 
 then design your own seed for travel using one of the four methods availab
 le: air, water, animals, or ejection.For rising K-6th graders. Registrati
 on required. Sponsored by Clinton Land Conservation Trust. 
URL:https://events.hchlibrary.org/event/storytime-w-deep-52297
END:VEVENT
END:VCALENDAR
