BEGIN:VCALENDAR
VERSION:2.0
PRODID:-//Library Market//iCal Export//EN
BEGIN:VEVENT
SUMMARY:Storytime w/ CT DEEP
UID:52295
DTSTAMP:20260424T155300Z
DTSTART:20260714T200000Z
DTEND:20260714T210000Z
LOCATION:The Henry Carter Hull Library, 10 Killingworth Turnpike, Clinton,
  CT 06413, United States
ROOM: Community Room
DESCRIPTION:Unearth a Story w/ CT Department of Environmental Protection!W
 hat if you found a fossil on a hike? More importantly, what if it came to 
 life? Write your own story as we unearth a variety of fossils during the a
 dventures of a young hiker. We will bring some real fossils and explain ab
 out Connecticut’s state fossil and dinosaur. You will be able to make a 
 Dinosaur Track Book to take with you and help inspire some adventures of y
 our own.For rising K-4th graders. Registration required. Sponsored by Cl
 inton Land Conservation Trust. 
URL:https://events.hchlibrary.org/event/storytime-w-deep-52295
END:VEVENT
END:VCALENDAR
