BEGIN:VCALENDAR
VERSION:2.0
PRODID:-//Library Market//iCal Export//EN
BEGIN:VEVENT
SUMMARY:Birds are Dinosaurs! w/ Denison Pequotsepos Nature Center
UID:51129
DTSTAMP:20260424T155300Z
DTSTART:20260805T210000Z
DTEND:20260805T220000Z
LOCATION:The Henry Carter Hull Library, 10 Killingworth Turnpike, Clinton,
  CT 06413, United States
ROOM: Community Room
DESCRIPTION:Birds are Dinosaurs! with Denison Pequotsepos Nature Center. 
 Did you know dinosaurs are still alive today? Explore feathers, skulls, an
 d bones to unearth the ancient adaptations ofbirds that connect them to th
 eir dinosaur ancestors. Meet a live bird ambassador, enjoy hands-on activi
 ties, and unearth the incredible story of how modern birds are living dino
 saurs!Sponsored by Clinton Land Conservation Trust. For rising K-6th grad
 ers. Registration required. 
URL:https://events.hchlibrary.org/event/birds-are-dinosaurs-w-denison-pequ
 otsepos-nature-center-51129
END:VEVENT
END:VCALENDAR
