BEGIN:VCALENDAR
VERSION:2.0
PRODID:-//Library Market//iCal Export//EN
BEGIN:VEVENT
SUMMARY:Virtual Author Talk with Matt Dinniman
UID:49370
DTSTAMP:20260425T134000Z
DTSTART:20260611T230000Z
DTEND:20260612T000000Z
LOCATION:The Henry Carter Hull Library, 10 Killingworth Turnpike, Clinton,
  CT 06413, United States
ROOM: Community Room
DESCRIPTION:Hold onto your heart-patterned boxers! Matt Dinniman, New York
  Times bestselling author of the wildly popular (and just plain wild) Dung
 eon Crawler Carl series, joins us to chat about his latest book, A Parade 
 of Horribles. As chaos and mass panic spread outside the dungeon in the w
 ake of Faction Wars, Carl and Donut find themselves on the tenth floor, wh
 ere they’re forced to compete in a surprisingly normal set of tasks. Wel
 l, normal for the dungeon.Races. Get from point A to point B, and don’t 
 come in last. After each race, they pick an upgrade for their vehicle and 
 the track gets more challenging. It all seems a little too normal, a littl
 e too simple.Ignore those strange glitches that are occurring with increas
 ing frequency. Don’t listen to those whispers about what’s happening o
 n the mysterious eleventh floor, something the system AI calls A Parade of
  Horribles. Nobody, not even the showrunners, knows what that means. Just 
 that the AI has ominously dubbed it “a coming-out party for the ages.”
 Everything is fine, Crawler. I repeat, everything is fine.Carl hates that 
 it’s business as usual. The rules of this floor have taken away his agen
 cy. That just will not do.So Carl is planning a party of his own. It’s a
  plan so dangerous, so insane, he can’t even consult his friends lest th
 e AI put a stop to it. Because if it goes wrong, it’s not just the end o
 f Carl and Donut. No. The stakes are higher than they’ve ever been.Regis
 ter now for a fun-filled discussion you won’t want to miss!About the Aut
 hor:Matt Dinniman is a writer and artist from Gig Harbor, Washington. He i
 s the author of the New York Times bestselling Dungeon Crawler Carl series
  along with several other books about the end of the world. He doesn’t 
 really hate Cocker Spaniels, and he plays bass in one band.Click Here to R
 egister
URL:https://events.hchlibrary.org/event/virtual-author-talk-matt-dinniman-
 49370
END:VEVENT
END:VCALENDAR
