BEGIN:VCALENDAR
VERSION:2.0
PRODID:-//Library Market//iCal Export//EN
BEGIN:VEVENT
SUMMARY:Virtual Author Talk with Dr. Ezekiel J. Emanuel
UID:48998
DTSTAMP:20260425T134000Z
DTSTART:20260609T180000Z
DTEND:20260609T190000Z
LOCATION:
DESCRIPTION:Join us for an empowering conversation with health expert Dr. 
 Ezekiel Emanuel as he shares his vision for living well and aging with pur
 pose. In Eat Your Ice Cream: Six Simple Rules for a Long and Healthy Life,
  he explores how to embrace health, happiness, and longevity without falli
 ng for quick fixes or unrealistic promises.Everyone wants to live a full a
 nd healthy life―and every day brings a tidal wave of attention-grabbing 
 misinformation, faddish ideas from “wellness” influencers, and bizarre
  advice from news outlets. The “Wellness Industrial Complex” prescribe
 s conflicting and complicated regimens while promising us more time to enj
 oy in the future―though it sure is demanding a lot of time right now. Bu
 t what actually matters most to our health and longevity? In Eat Your Ice
  Cream, renowned physician Ezekiel J. Emanuel argues that life is not a co
 mpetition to live the longest and that “wellness” shouldn’t be diffi
 cult; it should be an invisible part of one’s lifestyle that yields maxi
 mum health benefits with the least work. Dr. Emanuel cuts through the nois
 e with wit and good humor, giving readers just what they need: simple, hig
 h-impact, evidence-based guidelines on such issues as alcohol consumption,
  food and nutrition, exercise, sleep, and social engagement. Resisting th
 e tide of the latest trends to extend life at all costs, Eat Your Ice Crea
 m reveals that many of the tools for a long, healthy and meaningful life a
 re already within reach.Register now to hear incredible tips on living a f
 ull and healthy life.About the Author:Ezekiel J. Emanuel, MD, PhD, is the 
 Vice Provost for Global Initiatives, the Co-Director of the Healthcare Tra
 nsformation Institute, and a Professor at the University of Pennsylvania P
 erelman School of Medicine.Emanuel is an oncologist and world leader in he
 alth policy and bioethics. He is a Special Advisor to the Director General
  of the World Health Organization, Senior Fellow at the Center for America
 n Progress, and member of the Council on Foreign Relations.  He was the f
 ounding chair of the Department of Bioethics at the National Institutes of
  Health and held that position until August of 2011.Dr. Emanuel is the mos
 t widely cited bioethicist in history.  He has over 350 publications and 
 has authored or edited 15 books. He regularly contributes to the New York 
 Times, the Washington Post, the Wall Street Journal, and The Atlantic.This
  event is online only.
URL:https://events.hchlibrary.org/event/virtual-author-talk-dr-ezekiel-j-e
 manuel-48998
END:VEVENT
END:VCALENDAR
