BEGIN:VCALENDAR
VERSION:2.0
PRODID:-//Library Market//iCal Export//EN
BEGIN:VEVENT
SUMMARY:Saturday Jazz: T J Thompson Quartet
UID:53282
DTSTAMP:20260424T155300Z
DTSTART:20260613T200000Z
DTEND:20260613T210000Z
LOCATION:Henry on Main, 10 W Main St, Clinton, CT 06413, United States
ROOM: Saturday Jazz: T J Thompson Quartet
DESCRIPTION:Join for for Saturday Jazz.This week the T J Thompson Quartet 
 will be performing.Tickets are $10 at the door.No registration required.
URL:https://events.hchlibrary.org/index.php/event/saturday-jazz-t-j-thomps
 on-quartet-53282
END:VEVENT
END:VCALENDAR
