BEGIN:VCALENDAR
VERSION:2.0
PRODID:-//Library Market//iCal Export//EN
BEGIN:VEVENT
SUMMARY:DMV Community Event
UID:53025
DTSTAMP:20260423T210900Z
DTSTART:20260513T130000Z
DTEND:20260513T170000Z
LOCATION:The Henry Carter Hull Library, 10 Killingworth Turnpike, Clinton,
  CT 06413, United States
ROOM: Community Room
DESCRIPTION:We&#039;ve partnered with the DMV for a community event! The D
 MV will be with us from 9am to 1pm to offer a variety of services. Please 
 note that this is a walk-in service and appointments are not necessary.Off
 ered Services:REAL ID UpgradesDriver’s License: Renewals/DuplicatesNon-d
 river IDs: New/Renewals/ DuplicatesAccessibility Parking PermitsVehicle Re
 gistration: Renewals onlyFines, Tickets &amp; Suspensions: Resolution &amp
 ; Payments onlyLearner’s permit: Duplicates onlyDriver history reportsFe
 es:All fees are applicable. We do not accept cash as it poses a potential 
 safety risk for our staff.Please note: All fees will be waived for a non-d
 river’s identification card issued to a resident of a homeless shelter o
 r other facility for homeless persons or a certified homeless youth or cer
 tified homeless young adult. The fee waiver applies to new, duplicate and 
 renewal. A director or other authorized official of the Homeless Shelter o
 r other facility must sign and complete the appropriate section on the app
 lication for an identification card (Form B-230). We reserve the right to
  adjust our schedule on the day of the event due to capacity and resource 
 constraints.
URL:https://events.hchlibrary.org/index.php/event/dmv-53025
END:VEVENT
END:VCALENDAR
